Package: GeneRegionScan Version: 1.65.0 Command: /Library/Frameworks/R.framework/Resources/bin/R CMD build --keep-empty-dirs --no-resave-data GeneRegionScan StartedAt: 2025-10-19 16:27:51 -0400 (Sun, 19 Oct 2025) EndedAt: 2025-10-19 16:28:06 -0400 (Sun, 19 Oct 2025) EllapsedTime: 15.2 seconds RetCode: 0 Status: OK PackageFile: GeneRegionScan_1.65.0.tar.gz PackageFileSize: 7.482 MiB