Package: GeneOverlap Version: 1.46.0 Command: /home/biocbuild/R/R/bin/R CMD INSTALL GeneOverlap StartedAt: 2025-11-17 21:06:11 -0000 (Mon, 17 Nov 2025) EndedAt: 2025-11-17 21:06:55 -0000 (Mon, 17 Nov 2025) EllapsedTime: 44.4 seconds RetCode: 0 Status: OK