Package: GeneOverlap Version: 1.46.0 Command: /home/biocbuild/R/R/bin/R CMD check --install=check:GeneOverlap.install-out.txt --library=/home/biocbuild/R/R/site-library --no-vignettes --timings GeneOverlap_1.46.0.tar.gz StartedAt: 2025-11-18 10:05:55 -0000 (Tue, 18 Nov 2025) EndedAt: 2025-11-18 10:06:25 -0000 (Tue, 18 Nov 2025) EllapsedTime: 30.0 seconds RetCode: 0 Status: OK CheckDir: GeneOverlap.Rcheck Warnings: 0