Package: GeneOverlap Version: 1.45.0 Command: rm -rf GeneOverlap.buildbin-libdir && mkdir GeneOverlap.buildbin-libdir && F:\biocbuild\bbs-3.22-bioc\R\bin\R.exe CMD INSTALL --build --library=GeneOverlap.buildbin-libdir GeneOverlap_1.45.0.tar.gz StartedAt: 2025-08-15 10:20:03 -0400 (Fri, 15 Aug 2025) EndedAt: 2025-08-15 10:20:41 -0400 (Fri, 15 Aug 2025) EllapsedTime: 37.7 seconds RetCode: 0 Status: OK PackageFile: GeneOverlap_1.45.0.zip PackageFileSize: 541.8 KiB