Package: GeneOverlap Version: 1.46.0 Command: /home/biocbuild/bbs-3.22-bioc/R/bin/R CMD INSTALL GeneOverlap StartedAt: 2025-11-17 16:48:03 -0500 (Mon, 17 Nov 2025) EndedAt: 2025-11-17 16:48:06 -0500 (Mon, 17 Nov 2025) EllapsedTime: 3.9 seconds RetCode: 0 Status: OK