Package: GeneOverlap Version: 1.46.0 Maintainer: António Miguel de Jesus Domingues, Max-Planck Institute for Cell Biology and Genetics MaintainerEmail: amjdomingues at gmail.com git_url: https://git.bioconductor.org/packages/GeneOverlap git_branch: RELEASE_3_22 git_last_commit: afeb1c4 git_last_commit_date: 2025-10-29 10:17:44 -0500 (Wed, 29 Oct 2025)