Package: GeneNetworkBuilder Version: 1.52.0 Command: /Library/Frameworks/R.framework/Resources/bin/R CMD build --keep-empty-dirs --no-resave-data GeneNetworkBuilder StartedAt: 2025-10-31 17:11:17 -0400 (Fri, 31 Oct 2025) EndedAt: 2025-10-31 17:17:48 -0400 (Fri, 31 Oct 2025) EllapsedTime: 390.2 seconds RetCode: 0 Status: OK PackageFile: GeneNetworkBuilder_1.52.0.tar.gz PackageFileSize: 7.391 MiB