Package: GeneMeta Version: 1.81.0 Command: chmod a+r GeneMeta -R && F:\biocbuild\bbs-3.22-bioc\R\bin\R.exe CMD build --keep-empty-dirs --no-resave-data GeneMeta StartedAt: 2025-08-14 20:23:45 -0400 (Thu, 14 Aug 2025) EndedAt: 2025-08-14 20:24:25 -0400 (Thu, 14 Aug 2025) EllapsedTime: 40.2 seconds RetCode: 0 Status: OK PackageFile: GeneMeta_1.81.0.tar.gz PackageFileSize: 2.611 MiB