Package: GeneMeta Version: 1.81.0 Command: rm -rf GeneMeta.buildbin-libdir && mkdir GeneMeta.buildbin-libdir && F:\biocbuild\bbs-3.22-bioc\R\bin\R.exe CMD INSTALL --build --library=GeneMeta.buildbin-libdir GeneMeta_1.81.0.tar.gz StartedAt: 2025-08-15 10:19:59 -0400 (Fri, 15 Aug 2025) EndedAt: 2025-08-15 10:20:23 -0400 (Fri, 15 Aug 2025) EllapsedTime: 24.2 seconds RetCode: 0 Status: OK PackageFile: GeneMeta_1.81.0.zip PackageFileSize: 2.649 MiB