Package: GeneMeta Version: 1.81.0 Command: /home/biocbuild/bbs-3.22-bioc/R/bin/R CMD INSTALL GeneMeta StartedAt: 2025-10-19 15:29:36 -0400 (Sun, 19 Oct 2025) EndedAt: 2025-10-19 15:29:53 -0400 (Sun, 19 Oct 2025) EllapsedTime: 17.0 seconds RetCode: 0 Status: OK