Package: GeneMeta Version: 1.81.0 Command: /home/biocbuild/bbs-3.22-bioc/R/bin/R CMD build --keep-empty-dirs --no-resave-data --md5 GeneMeta StartedAt: 2025-10-19 17:46:20 -0400 (Sun, 19 Oct 2025) EndedAt: 2025-10-19 17:46:51 -0400 (Sun, 19 Oct 2025) EllapsedTime: 31.0 seconds RetCode: 0 Status: OK PackageFile: GeneMeta_1.81.0.tar.gz PackageFileSize: 2.704 MiB