Package: GeneGA Version: 1.59.0 Command: /home/biocbuild/R/R/bin/R CMD build --keep-empty-dirs --no-resave-data GeneGA StartedAt: 2025-10-17 01:24:23 -0000 (Fri, 17 Oct 2025) EndedAt: 2025-10-17 01:24:29 -0000 (Fri, 17 Oct 2025) EllapsedTime: 6.0 seconds RetCode: 1 Status: ERROR PackageFile: None PackageFileSize: NA