Package: GeneGA Version: 1.59.0 Command: /Library/Frameworks/R.framework/Resources/bin/R CMD INSTALL GeneGA StartedAt: 2025-10-19 15:10:03 -0400 (Sun, 19 Oct 2025) EndedAt: 2025-10-19 15:11:13 -0400 (Sun, 19 Oct 2025) EllapsedTime: 69.8 seconds RetCode: 0 Status: OK