Package: GeneGA Version: 1.59.0 Command: /Library/Frameworks/R.framework/Resources/bin/R CMD check --install=check:GeneGA.install-out.txt --library=/Library/Frameworks/R.framework/Resources/library --no-vignettes --timings GeneGA_1.59.0.tar.gz StartedAt: 2025-10-20 22:34:28 -0400 (Mon, 20 Oct 2025) EndedAt: 2025-10-20 22:43:47 -0400 (Mon, 20 Oct 2025) EllapsedTime: 559.0 seconds RetCode: 0 Status: OK CheckDir: GeneGA.Rcheck Warnings: 0