Package: GeneGA Version: 1.59.0 Command: rm -rf GeneGA.buildbin-libdir && mkdir GeneGA.buildbin-libdir && /Users/biocbuild/BBS/utils/build-universal.sh GeneGA_1.59.0.tar.gz /Library/Frameworks/R.framework/Resources/bin/R GeneGA.buildbin-libdir StartedAt: 2025-10-18 02:59:15 -0400 (Sat, 18 Oct 2025) EndedAt: 2025-10-18 02:59:23 -0400 (Sat, 18 Oct 2025) EllapsedTime: 8.2 seconds RetCode: 0 Status: OK PackageFile: GeneGA_1.59.0.tgz PackageFileSize: 399.6 KiB