Package: GenVisR Version: 1.41.2 Command: F:\biocbuild\bbs-3.22-bioc\R\bin\R.exe CMD check --no-multiarch --install=check:GenVisR.install-out.txt --library=F:\biocbuild\bbs-3.22-bioc\R\library --no-vignettes --timings GenVisR_1.41.2.tar.gz StartedAt: 2025-08-15 03:40:08 -0400 (Fri, 15 Aug 2025) EndedAt: 2025-08-15 03:50:26 -0400 (Fri, 15 Aug 2025) EllapsedTime: 617.2 seconds RetCode: 0 Status: OK CheckDir: GenVisR.Rcheck Warnings: 0