Package: GenVisR Version: 1.41.2 Command: chmod a+r GenVisR -R && F:\biocbuild\bbs-3.22-bioc\R\bin\R.exe CMD build --keep-empty-dirs --no-resave-data GenVisR StartedAt: 2025-08-14 20:28:36 -0400 (Thu, 14 Aug 2025) EndedAt: 2025-08-14 20:34:48 -0400 (Thu, 14 Aug 2025) EllapsedTime: 371.6 seconds RetCode: 0 Status: OK PackageFile: GenVisR_1.41.2.tar.gz PackageFileSize: 3.416 MiB