Package: GenVisR Version: 1.41.2 Command: rm -rf GenVisR.buildbin-libdir && mkdir GenVisR.buildbin-libdir && F:\biocbuild\bbs-3.22-bioc\R\bin\R.exe CMD INSTALL --build --library=GenVisR.buildbin-libdir GenVisR_1.41.2.tar.gz StartedAt: 2025-08-15 10:22:18 -0400 (Fri, 15 Aug 2025) EndedAt: 2025-08-15 10:24:32 -0400 (Fri, 15 Aug 2025) EllapsedTime: 133.5 seconds RetCode: 0 Status: OK PackageFile: GenVisR_1.41.2.zip PackageFileSize: 2.442 MiB