Package: GenVisR Version: 1.41.2 Command: /home/biocbuild/bbs-3.22-bioc/R/bin/R CMD check --install=check:GenVisR.install-out.txt --library=/home/biocbuild/bbs-3.22-bioc/R/site-library --timings GenVisR_1.41.2.tar.gz StartedAt: 2025-10-21 00:14:22 -0400 (Tue, 21 Oct 2025) EndedAt: 2025-10-21 00:22:40 -0400 (Tue, 21 Oct 2025) EllapsedTime: 497.5 seconds RetCode: 1 Status: ERROR CheckDir: GenVisR.Rcheck Warnings: NA