Package: GenVisR Version: 1.41.2 Command: /Library/Frameworks/R.framework/Resources/bin/R CMD check --install=check:GenVisR.install-out.txt --library=/Library/Frameworks/R.framework/Resources/library --no-vignettes --timings GenVisR_1.41.2.tar.gz StartedAt: 2025-10-20 19:57:38 -0400 (Mon, 20 Oct 2025) EndedAt: 2025-10-20 20:00:36 -0400 (Mon, 20 Oct 2025) EllapsedTime: 178.1 seconds RetCode: 1 Status: ERROR CheckDir: GenVisR.Rcheck Warnings: NA