Package: GenVisR Version: 1.41.2 Command: rm -rf GenVisR.buildbin-libdir && mkdir GenVisR.buildbin-libdir && /Users/biocbuild/BBS/utils/build-universal.sh GenVisR_1.41.2.tar.gz /Library/Frameworks/R.framework/Resources/bin/R GenVisR.buildbin-libdir StartedAt: 2025-10-20 23:02:02 -0400 (Mon, 20 Oct 2025) EndedAt: 2025-10-20 23:02:25 -0400 (Mon, 20 Oct 2025) EllapsedTime: 22.5 seconds RetCode: 0 Status: OK PackageFile: GenVisR_1.41.2.tgz PackageFileSize: 4.203 MiB