Package: GenProSeq Version: 1.13.0 Command: /home/biocbuild/R/R/bin/R CMD INSTALL GenProSeq StartedAt: 2025-10-16 21:22:57 -0000 (Thu, 16 Oct 2025) EndedAt: 2025-10-16 21:23:13 -0000 (Thu, 16 Oct 2025) EllapsedTime: 15.8 seconds RetCode: 0 Status: OK