Package: GenProSeq Version: 1.13.0 Command: /Library/Frameworks/R.framework/Resources/bin/R CMD INSTALL GenProSeq StartedAt: 2025-10-19 15:16:24 -0400 (Sun, 19 Oct 2025) EndedAt: 2025-10-19 15:16:38 -0400 (Sun, 19 Oct 2025) EllapsedTime: 14.0 seconds RetCode: 0 Status: OK