Package: GenProSeq Version: 1.13.0 Command: /Library/Frameworks/R.framework/Resources/bin/R CMD check --install=check:GenProSeq.install-out.txt --library=/Library/Frameworks/R.framework/Resources/library --no-vignettes --timings GenProSeq_1.13.0.tar.gz StartedAt: 2025-07-01 21:00:52 -0400 (Tue, 01 Jul 2025) EndedAt: 2025-07-01 21:04:53 -0400 (Tue, 01 Jul 2025) EllapsedTime: 241.6 seconds RetCode: 0 Status: OK CheckDir: GenProSeq.Rcheck Warnings: 0