Package: GenProSeq Version: 1.13.0 Command: /Library/Frameworks/R.framework/Resources/bin/R CMD build --keep-empty-dirs --no-resave-data GenProSeq StartedAt: 2025-10-20 16:29:53 -0400 (Mon, 20 Oct 2025) EndedAt: 2025-10-20 16:30:00 -0400 (Mon, 20 Oct 2025) EllapsedTime: 7.1 seconds RetCode: 0 Status: OK PackageFile: GenProSeq_1.13.0.tar.gz PackageFileSize: 1.115 MiB