Package: GateFinder Version: 1.29.0 Command: /home/biocbuild/R/R/bin/R CMD INSTALL GateFinder StartedAt: 2025-10-16 21:26:03 -0000 (Thu, 16 Oct 2025) EndedAt: 2025-10-16 21:26:18 -0000 (Thu, 16 Oct 2025) EllapsedTime: 15.3 seconds RetCode: 0 Status: OK