Package: GateFinder Version: 1.29.0 Command: /home/biocbuild/R/R/bin/R CMD build --keep-empty-dirs --no-resave-data GateFinder StartedAt: 2025-10-17 01:19:48 -0000 (Fri, 17 Oct 2025) EndedAt: 2025-10-17 01:20:11 -0000 (Fri, 17 Oct 2025) EllapsedTime: 23.0 seconds RetCode: 0 Status: OK PackageFile: GateFinder_1.29.0.tar.gz PackageFileSize: 573.9 KiB