Package: GateFinder Version: 1.29.0 Command: F:\biocbuild\bbs-3.22-bioc\R\bin\R.exe CMD check --no-multiarch --install=check:GateFinder.install-out.txt --library=F:\biocbuild\bbs-3.22-bioc\R\library --no-vignettes --timings GateFinder_1.29.0.tar.gz StartedAt: 2025-08-15 03:24:02 -0400 (Fri, 15 Aug 2025) EndedAt: 2025-08-15 03:25:28 -0400 (Fri, 15 Aug 2025) EllapsedTime: 86.3 seconds RetCode: 0 Status: WARNINGS CheckDir: GateFinder.Rcheck Warnings: 1