Package: GateFinder Version: 1.29.0 Command: chmod a+r GateFinder -R && F:\biocbuild\bbs-3.22-bioc\R\bin\R.exe CMD build --keep-empty-dirs --no-resave-data GateFinder StartedAt: 2025-08-14 20:20:29 -0400 (Thu, 14 Aug 2025) EndedAt: 2025-08-14 20:21:01 -0400 (Thu, 14 Aug 2025) EllapsedTime: 31.9 seconds RetCode: 0 Status: OK PackageFile: GateFinder_1.29.0.tar.gz PackageFileSize: 480.5 KiB