Package: GateFinder Version: 1.30.0 Command: /Library/Frameworks/R.framework/Resources/bin/R CMD check --install=check:GateFinder.install-out.txt --library=/Library/Frameworks/R.framework/Resources/library --no-vignettes --timings GateFinder_1.30.0.tar.gz StartedAt: 2025-10-31 19:54:19 -0400 (Fri, 31 Oct 2025) EndedAt: 2025-10-31 19:54:48 -0400 (Fri, 31 Oct 2025) EllapsedTime: 29.3 seconds RetCode: 0 Status: WARNINGS CheckDir: GateFinder.Rcheck Warnings: 1