Package: GWENA Version: 1.20.0 Command: /home/biocbuild/bbs-3.22-bioc/R/bin/R CMD INSTALL GWENA StartedAt: 2025-11-14 15:47:19 -0500 (Fri, 14 Nov 2025) EndedAt: 2025-11-14 15:47:56 -0500 (Fri, 14 Nov 2025) EllapsedTime: 37.2 seconds RetCode: 0 Status: OK