Package: GWENA Version: 1.20.0 Command: /home/biocbuild/bbs-3.22-bioc/R/bin/R CMD check --install=check:GWENA.install-out.txt --library=/home/biocbuild/bbs-3.22-bioc/R/site-library --timings GWENA_1.20.0.tar.gz StartedAt: 2025-11-17 00:32:37 -0500 (Mon, 17 Nov 2025) EndedAt: 2025-11-17 00:42:56 -0500 (Mon, 17 Nov 2025) EllapsedTime: 618.6 seconds RetCode: 0 Status: WARNINGS CheckDir: GWENA.Rcheck Warnings: 2