Package: GWENA Version: 1.19.0 Command: /Library/Frameworks/R.framework/Resources/bin/R CMD build --keep-empty-dirs --no-resave-data GWENA StartedAt: 2025-10-15 16:38:32 -0400 (Wed, 15 Oct 2025) EndedAt: 2025-10-15 16:39:25 -0400 (Wed, 15 Oct 2025) EllapsedTime: 52.5 seconds RetCode: 0 Status: OK PackageFile: GWENA_1.19.0.tar.gz PackageFileSize: 4.69 MiB