Package: GWAS.BAYES Version: 1.19.0 Command: /home/biocbuild/R/R/bin/R CMD build --keep-empty-dirs --no-resave-data GWAS.BAYES StartedAt: 2025-10-17 01:48:29 -0000 (Fri, 17 Oct 2025) EndedAt: 2025-10-17 01:52:25 -0000 (Fri, 17 Oct 2025) EllapsedTime: 235.2 seconds RetCode: 0 Status: OK PackageFile: GWAS.BAYES_1.19.0.tar.gz PackageFileSize: 1.394 MiB