Package: GWAS.BAYES Version: 1.19.0 Command: chmod a+r GWAS.BAYES -R && F:\biocbuild\bbs-3.22-bioc\R\bin\R.exe CMD build --keep-empty-dirs --no-resave-data GWAS.BAYES StartedAt: 2025-08-14 20:42:06 -0400 (Thu, 14 Aug 2025) EndedAt: 2025-08-14 20:46:11 -0400 (Thu, 14 Aug 2025) EllapsedTime: 245.4 seconds RetCode: 0 Status: OK PackageFile: GWAS.BAYES_1.19.0.tar.gz PackageFileSize: 1.347 MiB