Package: GWAS.BAYES Version: 1.19.0 Command: /home/biocbuild/bbs-3.22-bioc/R/bin/R CMD check --install=check:GWAS.BAYES.install-out.txt --library=/home/biocbuild/bbs-3.22-bioc/R/site-library --timings GWAS.BAYES_1.19.0.tar.gz StartedAt: 2025-10-20 00:41:05 -0400 (Mon, 20 Oct 2025) EndedAt: 2025-10-20 00:45:16 -0400 (Mon, 20 Oct 2025) EllapsedTime: 250.3 seconds RetCode: 0 Status: OK CheckDir: GWAS.BAYES.Rcheck Warnings: 0