Package: GWAS.BAYES Version: 1.19.0 Command: /Library/Frameworks/R.framework/Resources/bin/R CMD INSTALL GWAS.BAYES StartedAt: 2025-10-19 15:13:23 -0400 (Sun, 19 Oct 2025) EndedAt: 2025-10-19 15:14:02 -0400 (Sun, 19 Oct 2025) EllapsedTime: 39.1 seconds RetCode: 0 Status: OK