Package: GWAS.BAYES Version: 1.19.0 Command: /Library/Frameworks/R.framework/Resources/bin/R CMD check --install=check:GWAS.BAYES.install-out.txt --library=/Library/Frameworks/R.framework/Resources/library --no-vignettes --timings GWAS.BAYES_1.19.0.tar.gz StartedAt: 2025-10-19 22:57:44 -0400 (Sun, 19 Oct 2025) EndedAt: 2025-10-19 23:00:13 -0400 (Sun, 19 Oct 2025) EllapsedTime: 148.8 seconds RetCode: 0 Status: OK CheckDir: GWAS.BAYES.Rcheck Warnings: 0