Package: GWAS.BAYES Version: 1.19.0 Command: /Library/Frameworks/R.framework/Resources/bin/R CMD build --keep-empty-dirs --no-resave-data GWAS.BAYES StartedAt: 2025-10-19 17:31:30 -0400 (Sun, 19 Oct 2025) EndedAt: 2025-10-19 17:34:58 -0400 (Sun, 19 Oct 2025) EllapsedTime: 208.1 seconds RetCode: 0 Status: OK PackageFile: GWAS.BAYES_1.19.0.tar.gz PackageFileSize: 1.346 MiB