Package: GWAS.BAYES Version: 1.19.0 Command: rm -rf GWAS.BAYES.buildbin-libdir && mkdir GWAS.BAYES.buildbin-libdir && /Users/biocbuild/BBS/utils/build-universal.sh GWAS.BAYES_1.19.0.tar.gz /Library/Frameworks/R.framework/Resources/bin/R GWAS.BAYES.buildbin-libdir StartedAt: 2025-10-20 03:13:00 -0400 (Mon, 20 Oct 2025) EndedAt: 2025-10-20 03:13:13 -0400 (Mon, 20 Oct 2025) EllapsedTime: 12.7 seconds RetCode: 0 Status: OK PackageFile: GWAS.BAYES_1.19.0.tgz PackageFileSize: 2.006 MiB