Package: GWAS.BAYES Version: 1.19.0 Command: /Library/Frameworks/R.framework/Resources/bin/R CMD build --keep-empty-dirs --no-resave-data GWAS.BAYES StartedAt: 2025-10-20 16:37:35 -0400 (Mon, 20 Oct 2025) EndedAt: 2025-10-20 16:38:55 -0400 (Mon, 20 Oct 2025) EllapsedTime: 79.9 seconds RetCode: 0 Status: OK PackageFile: GWAS.BAYES_1.19.0.tar.gz PackageFileSize: 1.347 MiB