Package: GUIDEseq Version: 1.39.0 Command: /Library/Frameworks/R.framework/Resources/bin/R CMD INSTALL GUIDEseq StartedAt: 2025-10-01 15:27:52 -0400 (Wed, 01 Oct 2025) EndedAt: 2025-10-01 15:28:13 -0400 (Wed, 01 Oct 2025) EllapsedTime: 21.8 seconds RetCode: 0 Status: OK