Package: GSgalgoR Version: 1.19.0 Command: rm -rf GSgalgoR.buildbin-libdir && mkdir GSgalgoR.buildbin-libdir && F:\biocbuild\bbs-3.22-bioc\R\bin\R.exe CMD INSTALL --build --library=GSgalgoR.buildbin-libdir GSgalgoR_1.19.0.tar.gz StartedAt: 2025-08-15 10:26:10 -0400 (Fri, 15 Aug 2025) EndedAt: 2025-08-15 10:26:29 -0400 (Fri, 15 Aug 2025) EllapsedTime: 19.4 seconds RetCode: 0 Status: OK PackageFile: GSgalgoR_1.19.0.zip PackageFileSize: 2.244 MiB