Package: GSgalgoR Version: 1.19.0 Command: /home/biocbuild/bbs-3.22-bioc/R/bin/R CMD INSTALL GSgalgoR StartedAt: 2025-10-19 15:07:03 -0400 (Sun, 19 Oct 2025) EndedAt: 2025-10-19 15:07:50 -0400 (Sun, 19 Oct 2025) EllapsedTime: 47.0 seconds RetCode: 0 Status: OK