Package: GSgalgoR Version: 1.19.0 Command: /home/biocbuild/bbs-3.22-bioc/R/bin/R CMD build --keep-empty-dirs --no-resave-data --md5 GSgalgoR StartedAt: 2025-10-19 18:01:16 -0400 (Sun, 19 Oct 2025) EndedAt: 2025-10-19 18:02:50 -0400 (Sun, 19 Oct 2025) EllapsedTime: 94.1 seconds RetCode: 0 Status: OK PackageFile: GSgalgoR_1.19.0.tar.gz PackageFileSize: 2.849 MiB