Package: GSgalgoR Version: 1.19.0 Command: /Library/Frameworks/R.framework/Resources/bin/R CMD check --install=check:GSgalgoR.install-out.txt --library=/Library/Frameworks/R.framework/Resources/library --no-vignettes --timings GSgalgoR_1.19.0.tar.gz StartedAt: 2025-10-19 22:54:54 -0400 (Sun, 19 Oct 2025) EndedAt: 2025-10-19 23:00:15 -0400 (Sun, 19 Oct 2025) EllapsedTime: 320.8 seconds RetCode: 0 Status: OK CheckDir: GSgalgoR.Rcheck Warnings: 0