Package: GSgalgoR Version: 1.19.0 Command: rm -rf GSgalgoR.buildbin-libdir && mkdir GSgalgoR.buildbin-libdir && /Users/biocbuild/BBS/utils/build-universal.sh GSgalgoR_1.19.0.tar.gz /Library/Frameworks/R.framework/Resources/bin/R GSgalgoR.buildbin-libdir StartedAt: 2025-10-20 03:12:53 -0400 (Mon, 20 Oct 2025) EndedAt: 2025-10-20 03:13:00 -0400 (Mon, 20 Oct 2025) EllapsedTime: 7.0 seconds RetCode: 0 Status: OK PackageFile: GSgalgoR_1.19.0.tgz PackageFileSize: 2.85 MiB