Package: GSgalgoR Version: 1.19.0 Command: /Library/Frameworks/R.framework/Resources/bin/R CMD check --install=check:GSgalgoR.install-out.txt --library=/Library/Frameworks/R.framework/Resources/library --no-vignettes --timings GSgalgoR_1.19.0.tar.gz StartedAt: 2025-10-20 20:06:39 -0400 (Mon, 20 Oct 2025) EndedAt: 2025-10-20 20:07:49 -0400 (Mon, 20 Oct 2025) EllapsedTime: 69.8 seconds RetCode: 0 Status: OK CheckDir: GSgalgoR.Rcheck Warnings: 0