Package: GSgalgoR Version: 1.19.0 Command: /Library/Frameworks/R.framework/Resources/bin/R CMD build --keep-empty-dirs --no-resave-data GSgalgoR StartedAt: 2025-10-20 16:36:54 -0400 (Mon, 20 Oct 2025) EndedAt: 2025-10-20 16:37:35 -0400 (Mon, 20 Oct 2025) EllapsedTime: 41.4 seconds RetCode: 0 Status: OK PackageFile: GSgalgoR_1.19.0.tar.gz PackageFileSize: 2.819 MiB