Package: GSReg Version: 1.43.0 Command: /home/biocbuild/bbs-3.22-bioc/R/bin/R CMD INSTALL GSReg StartedAt: 2025-10-05 15:59:00 -0400 (Sun, 05 Oct 2025) EndedAt: 2025-10-05 15:59:38 -0400 (Sun, 05 Oct 2025) EllapsedTime: 37.4 seconds RetCode: 0 Status: OK